BEGIN:VCALENDAR
VERSION:2.0
PRODID:-//Chorley District Scouts - ECPv6.15.18//NONSGML v1.0//EN
CALSCALE:GREGORIAN
METHOD:PUBLISH
X-ORIGINAL-URL:https://www.chorleyscouts.org.uk
X-WR-CALDESC:Events for Chorley District Scouts
REFRESH-INTERVAL;VALUE=DURATION:PT1H
X-Robots-Tag:noindex
X-PUBLISHED-TTL:PT1H
BEGIN:VTIMEZONE
TZID:Europe/London
BEGIN:DAYLIGHT
TZOFFSETFROM:+0000
TZOFFSETTO:+0100
TZNAME:BST
DTSTART:20240331T010000
END:DAYLIGHT
BEGIN:STANDARD
TZOFFSETFROM:+0100
TZOFFSETTO:+0000
TZNAME:GMT
DTSTART:20241027T010000
END:STANDARD
BEGIN:DAYLIGHT
TZOFFSETFROM:+0000
TZOFFSETTO:+0100
TZNAME:BST
DTSTART:20250330T010000
END:DAYLIGHT
BEGIN:STANDARD
TZOFFSETFROM:+0100
TZOFFSETTO:+0000
TZNAME:GMT
DTSTART:20251026T010000
END:STANDARD
BEGIN:DAYLIGHT
TZOFFSETFROM:+0000
TZOFFSETTO:+0100
TZNAME:BST
DTSTART:20260329T010000
END:DAYLIGHT
BEGIN:STANDARD
TZOFFSETFROM:+0100
TZOFFSETTO:+0000
TZNAME:GMT
DTSTART:20261025T010000
END:STANDARD
END:VTIMEZONE
BEGIN:VEVENT
DTSTART;TZID=Europe/London:20250607T103000
DTEND;TZID=Europe/London:20250607T153000
DTSTAMP:20260419T170054
CREATED:20250420T121027Z
LAST-MODIFIED:20250420T121056Z
UID:365-1749292200-1749310200@www.chorleyscouts.org.uk
SUMMARY:Mini Monopoly Run
DESCRIPTION:
URL:https://www.chorleyscouts.org.uk/event/mini-monopoly-run/
CATEGORIES:Event
END:VEVENT
BEGIN:VEVENT
DTSTART;TZID=Europe/London:20250516T193000
DTEND;TZID=Europe/London:20250518T153000
DTSTAMP:20260419T170054
CREATED:20250302T134133Z
LAST-MODIFIED:20250302T134133Z
UID:217-1747423800-1747582200@www.chorleyscouts.org.uk
SUMMARY:County Rally
DESCRIPTION:
URL:https://www.chorleyscouts.org.uk/event/county-rally/
LOCATION:Waddecar\, Snape Raike Lane\, Goosnargh\, Lancashire\, PR3 2EU\, United Kingdom
CATEGORIES:Event
END:VEVENT
BEGIN:VEVENT
DTSTART;TZID=Europe/London:20250510T100000
DTEND;TZID=Europe/London:20250510T170000
DTSTAMP:20260419T170054
CREATED:20250420T114537Z
LAST-MODIFIED:20250420T114551Z
UID:347-1746871200-1746896400@www.chorleyscouts.org.uk
SUMMARY:Platt's Field Working Party
DESCRIPTION:
URL:https://www.chorleyscouts.org.uk/event/platts-field-working-party/
LOCATION:Platt’s Field\, Butterworth Brow\, Chorley\, PR7 3QP\, United Kingdom
CATEGORIES:Event
ORGANIZER;CN="Andy Lewis":MAILTO:andrew.lewis@chorleyscouts.org.uk
END:VEVENT
BEGIN:VEVENT
DTSTART;VALUE=DATE:20250509
DTEND;VALUE=DATE:20250511
DTSTAMP:20260419T170054
CREATED:20250420T114935Z
LAST-MODIFIED:20250420T114935Z
UID:351-1746748800-1746921599@www.chorleyscouts.org.uk
SUMMARY:Backwoods Taster Night
DESCRIPTION:
URL:https://www.chorleyscouts.org.uk/event/backwoods-taster-night/
LOCATION:Platt’s Field\, Butterworth Brow\, Chorley\, PR7 3QP\, United Kingdom
CATEGORIES:Event
ORGANIZER;CN="Andy Lewis":MAILTO:andrew.lewis@chorleyscouts.org.uk
END:VEVENT
BEGIN:VEVENT
DTSTART;TZID=Europe/London:20250425T190000
DTEND;TZID=Europe/London:20250427T150000
DTSTAMP:20260419T170054
CREATED:20250302T133856Z
LAST-MODIFIED:20250302T133856Z
UID:214-1745607600-1745766000@www.chorleyscouts.org.uk
SUMMARY:St George's Day Camp
DESCRIPTION:St George’s Day Camp\nPlanning is well under way for this event and we have a good number of groups signed up for the weekend. There is still some capacity both with camping and transport for additional numbers so if you want to come and join the fun then please let us know using the form below. Weekend costs are £35 per young person (you will need to add your own catering costs) with leaders in ratio free \nWe are looking forward to an exciting weekend at Waddecar to celebrate and renew our promise together. There is also the option for day visitors at a cost of £15 \nhttps://forms.office.com/e/ArYWYgCWe7
URL:https://www.chorleyscouts.org.uk/event/st-georges-day-camp/
LOCATION:Waddecar\, Snape Raike Lane\, Goosnargh\, Lancashire\, PR3 2EU\, United Kingdom
CATEGORIES:Event
END:VEVENT
END:VCALENDAR